BEGIN:VCALENDAR
VERSION:2.0
PRODID:-//GGS Bachemer - ECPv6.15.20//NONSGML v1.0//EN
CALSCALE:GREGORIAN
METHOD:PUBLISH
X-ORIGINAL-URL:https://www.ggsbachemer.de
X-WR-CALDESC:Veranstaltungen für GGS Bachemer
REFRESH-INTERVAL;VALUE=DURATION:PT1H
X-Robots-Tag:noindex
X-PUBLISHED-TTL:PT1H
BEGIN:VTIMEZONE
TZID:Europe/Berlin
BEGIN:DAYLIGHT
TZOFFSETFROM:+0100
TZOFFSETTO:+0200
TZNAME:CEST
DTSTART:20220327T010000
END:DAYLIGHT
BEGIN:STANDARD
TZOFFSETFROM:+0200
TZOFFSETTO:+0100
TZNAME:CET
DTSTART:20221030T010000
END:STANDARD
BEGIN:DAYLIGHT
TZOFFSETFROM:+0100
TZOFFSETTO:+0200
TZNAME:CEST
DTSTART:20230326T010000
END:DAYLIGHT
BEGIN:STANDARD
TZOFFSETFROM:+0200
TZOFFSETTO:+0100
TZNAME:CET
DTSTART:20231029T010000
END:STANDARD
BEGIN:DAYLIGHT
TZOFFSETFROM:+0100
TZOFFSETTO:+0200
TZNAME:CEST
DTSTART:20240331T010000
END:DAYLIGHT
BEGIN:STANDARD
TZOFFSETFROM:+0200
TZOFFSETTO:+0100
TZNAME:CET
DTSTART:20241027T010000
END:STANDARD
BEGIN:DAYLIGHT
TZOFFSETFROM:+0100
TZOFFSETTO:+0200
TZNAME:CEST
DTSTART:20250330T010000
END:DAYLIGHT
BEGIN:STANDARD
TZOFFSETFROM:+0200
TZOFFSETTO:+0100
TZNAME:CET
DTSTART:20251026T010000
END:STANDARD
BEGIN:DAYLIGHT
TZOFFSETFROM:+0100
TZOFFSETTO:+0200
TZNAME:CEST
DTSTART:20260329T010000
END:DAYLIGHT
BEGIN:STANDARD
TZOFFSETFROM:+0200
TZOFFSETTO:+0100
TZNAME:CET
DTSTART:20261025T010000
END:STANDARD
END:VTIMEZONE
BEGIN:VEVENT
DTSTART;TZID=Europe/Berlin:20250409T081500
DTEND;TZID=Europe/Berlin:20250409T084500
DTSTAMP:20260423T125923
CREATED:20250408T091447Z
LAST-MODIFIED:20250408T091454Z
UID:4294-1744186500-1744188300@www.ggsbachemer.de
SUMMARY:Ostersingen
DESCRIPTION:
URL:https://www.ggsbachemer.de/event/ostersingen/
END:VEVENT
BEGIN:VEVENT
DTSTART;VALUE=DATE:20241010
DTEND;VALUE=DATE:20241011
DTSTAMP:20260423T125923
CREATED:20241004T105452Z
LAST-MODIFIED:20250714T101640Z
UID:4037-1728518400-1728604799@www.ggsbachemer.de
SUMMARY:Anmeldung Schulneulinge 2026/2027
DESCRIPTION:
URL:https://www.ggsbachemer.de/event/anmeldung-schulneulinge-2025-2026-2/
END:VEVENT
BEGIN:VEVENT
DTSTART;TZID=Europe/Berlin:20241009T081500
DTEND;TZID=Europe/Berlin:20241009T083000
DTSTAMP:20260423T125923
CREATED:20241004T104709Z
LAST-MODIFIED:20241004T104752Z
UID:4033-1728461700-1728462600@www.ggsbachemer.de
SUMMARY:Herbstsingen auf dem Schulhof
DESCRIPTION:
URL:https://www.ggsbachemer.de/event/herbstsingen-auf-dem-schulhof/
END:VEVENT
BEGIN:VEVENT
DTSTART;TZID=Europe/Berlin:20241009T081500
DTEND;TZID=Europe/Berlin:20241009T081500
DTSTAMP:20260423T125923
CREATED:20241004T104500Z
LAST-MODIFIED:20241004T104500Z
UID:4031-1728461700-1728461700@www.ggsbachemer.de
SUMMARY:
DESCRIPTION:Herbstsingen auf dem Schulhof
URL:https://www.ggsbachemer.de/event/4031/
END:VEVENT
BEGIN:VEVENT
DTSTART;VALUE=DATE:20241008
DTEND;VALUE=DATE:20241009
DTSTAMP:20260423T125923
CREATED:20241004T104958Z
LAST-MODIFIED:20241004T105005Z
UID:4035-1728345600-1728431999@www.ggsbachemer.de
SUMMARY:Anmeldung Schulneulinge 2025/2026
DESCRIPTION:
URL:https://www.ggsbachemer.de/event/anmeldung-schulneulinge-2025-2026/
END:VEVENT
BEGIN:VEVENT
DTSTART;TZID=Europe/Berlin:20240918T160000
DTEND;TZID=Europe/Berlin:20240918T180000
DTSTAMP:20260423T125923
CREATED:20240825T195841Z
LAST-MODIFIED:20240825T195841Z
UID:4018-1726675200-1726682400@www.ggsbachemer.de
SUMMARY:Schnuppernachmittag und Infoabend
DESCRIPTION:
URL:https://www.ggsbachemer.de/event/schnuppernachmittag-und-infoabend/
END:VEVENT
BEGIN:VEVENT
DTSTART;VALUE=DATE:20240708
DTEND;VALUE=DATE:20240821
DTSTAMP:20260423T125923
CREATED:20230628T181641Z
LAST-MODIFIED:20230629T081644Z
UID:3836-1720396800-1724198399@www.ggsbachemer.de
SUMMARY:Sommerferien - 1. bis 3. Woche OGS Betreuung geöffnet\, 4. bis 6. Woche OGS Betreuung geschlossen
DESCRIPTION:
URL:https://www.ggsbachemer.de/event/sommerferien-1-bis-3-woche-ogs-betreuung-geoeffnet/
END:VEVENT
BEGIN:VEVENT
DTSTART;VALUE=DATE:20240531
DTEND;VALUE=DATE:20240601
DTSTAMP:20260423T125923
CREATED:20230628T075222Z
LAST-MODIFIED:20230628T075242Z
UID:3789-1717113600-1717199999@www.ggsbachemer.de
SUMMARY:Beweglicher Ferientag - schulfrei - kein Unterricht - OGS Betreuung geschlossen
DESCRIPTION:
URL:https://www.ggsbachemer.de/event/beweglicher-ferientag-schulfrei-kein-unterricht-ogs-betreuung-geschlossen/
END:VEVENT
BEGIN:VEVENT
DTSTART;TZID=Europe/Berlin:20240522T080000
DTEND;TZID=Europe/Berlin:20240524T170000
DTSTAMP:20260423T125923
CREATED:20230815T100849Z
LAST-MODIFIED:20230815T100849Z
UID:3864-1716364800-1716570000@www.ggsbachemer.de
SUMMARY:Projekttage
DESCRIPTION:
URL:https://www.ggsbachemer.de/event/projekttage/
END:VEVENT
BEGIN:VEVENT
DTSTART;VALUE=DATE:20240510
DTEND;VALUE=DATE:20240511
DTSTAMP:20260423T125923
CREATED:20230628T075059Z
LAST-MODIFIED:20230628T075108Z
UID:3787-1715299200-1715385599@www.ggsbachemer.de
SUMMARY:Beweglicher Ferientag - schulfrei - kein Unterricht - OGS geöffnet
DESCRIPTION:
URL:https://www.ggsbachemer.de/event/beweglicher-ferientag-schulfrei-kein-unterricht-ogs-geoeffnet-2/
END:VEVENT
BEGIN:VEVENT
DTSTART;VALUE=DATE:20240325
DTEND;VALUE=DATE:20240406
DTSTAMP:20260423T125923
CREATED:20230628T181514Z
LAST-MODIFIED:20230628T181514Z
UID:3834-1711324800-1712361599@www.ggsbachemer.de
SUMMARY:Osterferien - 1. Woche OGS Betreuung geöffnet
DESCRIPTION:
URL:https://www.ggsbachemer.de/event/osterferien-1-woche-ogs-betreuung-geoeffnet/
END:VEVENT
BEGIN:VEVENT
DTSTART;VALUE=DATE:20240226
DTEND;VALUE=DATE:20240227
DTSTAMP:20260423T125923
CREATED:20230628T074946Z
LAST-MODIFIED:20230628T074955Z
UID:3785-1708905600-1708991999@www.ggsbachemer.de
SUMMARY:Beweglicher Ferientag - schulfrei - kein Unterricht - OGS geöffnet
DESCRIPTION:
URL:https://www.ggsbachemer.de/event/beweglicher-ferientag-schulfrei-kein-unterricht-ogs-geoeffnet/
END:VEVENT
BEGIN:VEVENT
DTSTART;VALUE=DATE:20240212
DTEND;VALUE=DATE:20240213
DTSTAMP:20260423T125923
CREATED:20230628T074659Z
LAST-MODIFIED:20230628T074708Z
UID:3782-1707696000-1707782399@www.ggsbachemer.de
SUMMARY:Rosenmontag - schulfrei - kein Unterricht und keine OGS Betreuung
DESCRIPTION:
URL:https://www.ggsbachemer.de/event/rosenmontag-schulfrei-kein-unterricht-und-keine-ogs-betreuung/
END:VEVENT
BEGIN:VEVENT
DTSTART;VALUE=DATE:20231221
DTEND;VALUE=DATE:20240106
DTSTAMP:20260423T125923
CREATED:20230628T181306Z
LAST-MODIFIED:20230628T181306Z
UID:3832-1703116800-1704499199@www.ggsbachemer.de
SUMMARY:Weihnachtsferien - OGS Betreuung geschlossen
DESCRIPTION:
URL:https://www.ggsbachemer.de/event/weihnachtsferien-ogs-betreuung-geschlossen-3/
END:VEVENT
BEGIN:VEVENT
DTSTART;TZID=Europe/Berlin:20231107T173000
DTEND;TZID=Europe/Berlin:20231107T203000
DTSTAMP:20260423T125923
CREATED:20230628T080619Z
LAST-MODIFIED:20230628T080628Z
UID:3791-1699378200-1699389000@www.ggsbachemer.de
SUMMARY:Sankt Martin - Feier und Umzug
DESCRIPTION:
URL:https://www.ggsbachemer.de/event/sankt-martin-feier-und-umzug/
END:VEVENT
BEGIN:VEVENT
DTSTART;VALUE=DATE:20231002
DTEND;VALUE=DATE:20231014
DTSTAMP:20260423T125923
CREATED:20230628T181024Z
LAST-MODIFIED:20230628T181113Z
UID:3829-1696204800-1697241599@www.ggsbachemer.de
SUMMARY:Herbstferien - OGS Betreuung geöffnet
DESCRIPTION:
URL:https://www.ggsbachemer.de/event/herbstferien-3/
END:VEVENT
BEGIN:VEVENT
DTSTART;TZID=Europe/Berlin:20230914T183000
DTEND;TZID=Europe/Berlin:20230914T200000
DTSTAMP:20260423T125923
CREATED:20230628T072951Z
LAST-MODIFIED:20230628T072951Z
UID:3767-1694716200-1694721600@www.ggsbachemer.de
SUMMARY:Informationsabend Schulneulinge 2024/2025
DESCRIPTION:
URL:https://www.ggsbachemer.de/event/informationsabend-schulneulinge-2024-2025/
END:VEVENT
BEGIN:VEVENT
DTSTART;VALUE=DATE:20230808
DTEND;VALUE=DATE:20230809
DTSTAMP:20260423T125923
CREATED:20230628T073606Z
LAST-MODIFIED:20230628T073711Z
UID:3773-1691452800-1691539199@www.ggsbachemer.de
SUMMARY:Einschulung Klassen 1a und 1b
DESCRIPTION:
URL:https://www.ggsbachemer.de/event/schuljahresbeginn-2023-2024-klassenstufen-2-4-0800-uhr/
END:VEVENT
BEGIN:VEVENT
DTSTART;TZID=Europe/Berlin:20230807T080000
DTEND;TZID=Europe/Berlin:20230807T170000
DTSTAMP:20260423T125923
CREATED:20230628T073842Z
LAST-MODIFIED:20230628T073849Z
UID:3778-1691395200-1691427600@www.ggsbachemer.de
SUMMARY:Schuljahresbeginn 2023/2024\, Klassen 2 - 4\, 08:00 Uhr
DESCRIPTION:
URL:https://www.ggsbachemer.de/event/schuljahresbeginn-2023-2024-klassen-2-4-0800-uhr/
END:VEVENT
BEGIN:VEVENT
DTSTART;TZID=Europe/Berlin:20230717T080000
DTEND;TZID=Europe/Berlin:20230804T170000
DTSTAMP:20260423T125923
CREATED:20220821T062122Z
LAST-MODIFIED:20220821T062122Z
UID:3656-1689580800-1691168400@www.ggsbachemer.de
SUMMARY:Sommerferien\, 4.-6. Woche\, OGS Betreuung geschlossen
DESCRIPTION:
URL:https://www.ggsbachemer.de/event/sommerferien-4-6-woche-ogs-betreuung-geschlossen/
END:VEVENT
BEGIN:VEVENT
DTSTART;TZID=Europe/Berlin:20230626T080000
DTEND;TZID=Europe/Berlin:20230714T170000
DTSTAMP:20260423T125923
CREATED:20220821T062016Z
LAST-MODIFIED:20220821T062016Z
UID:3654-1687766400-1689354000@www.ggsbachemer.de
SUMMARY:Sommerferien\, OGS Betreuung 1.- 3. Woche geöffnet
DESCRIPTION:
URL:https://www.ggsbachemer.de/event/sommerferien-ogs-betreuung-1-3-woche-geoeffnet/
END:VEVENT
BEGIN:VEVENT
DTSTART;TZID=Europe/Berlin:20230622T080000
DTEND;TZID=Europe/Berlin:20230623T170000
DTSTAMP:20260423T125923
CREATED:20220821T061905Z
LAST-MODIFIED:20220821T061905Z
UID:3652-1687420800-1687539600@www.ggsbachemer.de
SUMMARY:Sommerferien\, 2 Tage OGS Betreuung
DESCRIPTION:
URL:https://www.ggsbachemer.de/event/sommerferien-2-tage-ogs-betreuung/
END:VEVENT
BEGIN:VEVENT
DTSTART;VALUE=DATE:20230609
DTEND;VALUE=DATE:20230610
DTSTAMP:20260423T125923
CREATED:20220821T061156Z
LAST-MODIFIED:20220821T061156Z
UID:3645-1686268800-1686355199@www.ggsbachemer.de
SUMMARY:Beweglicher Ferientag\, kein Unterricht-OGS Betreuung geöffnet
DESCRIPTION:
URL:https://www.ggsbachemer.de/event/beweglicher-ferientag-kein-unterricht-ogs-betreuung-geoeffnet-2/
END:VEVENT
BEGIN:VEVENT
DTSTART;VALUE=DATE:20230530
DTEND;VALUE=DATE:20230531
DTSTAMP:20260423T125923
CREATED:20220821T061104Z
LAST-MODIFIED:20220821T062559Z
UID:3643-1685404800-1685491199@www.ggsbachemer.de
SUMMARY:Beweglicher Ferientag\, kein Unterricht-OGS Betreuung geöffnet
DESCRIPTION:
URL:https://www.ggsbachemer.de/event/ferientag-kein-unterricht-ogs-betreuung-geoeffnet/
END:VEVENT
BEGIN:VEVENT
DTSTART;VALUE=DATE:20230519
DTEND;VALUE=DATE:20230520
DTSTAMP:20260423T125923
CREATED:20220821T060956Z
LAST-MODIFIED:20220821T060956Z
UID:3641-1684454400-1684540799@www.ggsbachemer.de
SUMMARY:Beweglicher Ferientag\, kein Unterricht-OGS Betreuung geöffnet
DESCRIPTION:
URL:https://www.ggsbachemer.de/event/beweglicher-ferientag-kein-unterricht-ogs-betreuung-geoeffnet/
END:VEVENT
BEGIN:VEVENT
DTSTART;VALUE=DATE:20230517
DTEND;VALUE=DATE:20230518
DTSTAMP:20260423T125923
CREATED:20220821T055147Z
LAST-MODIFIED:20230305T164350Z
UID:3617-1684281600-1684367999@www.ggsbachemer.de
SUMMARY:Sponsorenlauf
DESCRIPTION:
URL:https://www.ggsbachemer.de/event/sponsorenlauf-3/
END:VEVENT
BEGIN:VEVENT
DTSTART;TZID=Europe/Berlin:20230426T190000
DTEND;TZID=Europe/Berlin:20230426T193000
DTSTAMP:20260423T125923
CREATED:20220821T055008Z
LAST-MODIFIED:20220821T055008Z
UID:3613-1682535600-1682537400@www.ggsbachemer.de
SUMMARY:2. Schulkonferenz
DESCRIPTION:
URL:https://www.ggsbachemer.de/event/2-schulkonferenz/
END:VEVENT
BEGIN:VEVENT
DTSTART;TZID=Europe/Berlin:20230419T183000
DTEND;TZID=Europe/Berlin:20230419T210000
DTSTAMP:20260423T125923
CREATED:20220821T054925Z
LAST-MODIFIED:20220821T060005Z
UID:3611-1681929000-1681938000@www.ggsbachemer.de
SUMMARY:2. Klassenplegschaftssitzung
DESCRIPTION:
URL:https://www.ggsbachemer.de/event/2-klasseznplegschaftssitzung/
END:VEVENT
BEGIN:VEVENT
DTSTART;TZID=Europe/Berlin:20230403T080000
DTEND;TZID=Europe/Berlin:20230414T170000
DTSTAMP:20260423T125923
CREATED:20220821T061427Z
LAST-MODIFIED:20220821T061427Z
UID:3647-1680508800-1681491600@www.ggsbachemer.de
SUMMARY:Osterferien
DESCRIPTION:03.04.2023 – 06.04.2023: OGS Betreuung geöffnet \n11.04.2023- 14.04.2023:   OGS Betreuung geschlossen
URL:https://www.ggsbachemer.de/event/osterferien-3/
END:VEVENT
BEGIN:VEVENT
DTSTART;VALUE=DATE:20230220
DTEND;VALUE=DATE:20230221
DTSTAMP:20260423T125923
CREATED:20220821T060603Z
LAST-MODIFIED:20220821T060603Z
UID:3636-1676851200-1676937599@www.ggsbachemer.de
SUMMARY:Rosenmontag-schulfrei\, keine OGS Betreuung
DESCRIPTION:
URL:https://www.ggsbachemer.de/event/rosenmontag-schulfrei-keine-ogs-betreuung-2/
END:VEVENT
END:VCALENDAR